BEGIN:VCALENDAR
VERSION:2.0
PRODID:-//Papdale Primary School - ECPv6.15.17//NONSGML v1.0//EN
CALSCALE:GREGORIAN
METHOD:PUBLISH
X-ORIGINAL-URL:https://www.orkney.co/papdale
X-WR-CALDESC:Events for Papdale Primary School
REFRESH-INTERVAL;VALUE=DURATION:PT1H
X-Robots-Tag:noindex
X-PUBLISHED-TTL:PT1H
BEGIN:VTIMEZONE
TZID:UTC
BEGIN:STANDARD
TZOFFSETFROM:+0000
TZOFFSETTO:+0000
TZNAME:UTC
DTSTART:20210101T000000
END:STANDARD
END:VTIMEZONE
BEGIN:VEVENT
DTSTART;TZID=UTC:20220819T090000
DTEND;TZID=UTC:20220819T110000
DTSTAMP:20260421T213759
CREATED:20220817T090905Z
LAST-MODIFIED:20220817T090905Z
UID:2624-1660899600-1660906800@www.orkney.co
SUMMARY:P5E Swimming at Picky
DESCRIPTION:P5E Swimming at Picky \nBuses leave PPS at 9:10am
URL:https://www.orkney.co/papdale/event/p5e-swimming-at-picky
LOCATION:Picky
CATEGORIES:School Trips,Swimming
ATTACH;FMTTYPE=image/gif:https://www.orkney.co/papdale/wp-content/uploads/2022/08/Swim.gif
END:VEVENT
END:VCALENDAR