BEGIN:VCALENDAR
VERSION:2.0
PRODID:-//Papdale Primary School - ECPv6.15.17//NONSGML v1.0//EN
CALSCALE:GREGORIAN
METHOD:PUBLISH
X-WR-CALNAME:Papdale Primary School
X-ORIGINAL-URL:https://www.orkney.co/papdale
X-WR-CALDESC:Events for Papdale Primary School
REFRESH-INTERVAL;VALUE=DURATION:PT1H
X-Robots-Tag:noindex
X-PUBLISHED-TTL:PT1H
BEGIN:VTIMEZONE
TZID:UTC
BEGIN:STANDARD
TZOFFSETFROM:+0000
TZOFFSETTO:+0000
TZNAME:UTC
DTSTART:20210101T000000
END:STANDARD
END:VTIMEZONE
BEGIN:VEVENT
DTSTART;TZID=UTC:20230127T090000
DTEND;TZID=UTC:20230127T110000
DTSTAMP:20260421T200705
CREATED:20220817T164154Z
LAST-MODIFIED:20220817T164154Z
UID:2661-1674810000-1674817200@www.orkney.co
SUMMARY:P4E Swimming at Picky
DESCRIPTION:P4E Swimming at Picky \nBus leaves PPS at 9:10am
URL:https://www.orkney.co/papdale/event/p4e-swimming-at-picky-4
LOCATION:Picky
CATEGORIES:School Trips,Swimming
ATTACH;FMTTYPE=image/gif:https://www.orkney.co/papdale/wp-content/uploads/2022/08/Swim.gif
END:VEVENT
BEGIN:VEVENT
DTSTART;TZID=UTC:20230120T090000
DTEND;TZID=UTC:20230120T110000
DTSTAMP:20260421T200705
CREATED:20220817T164033Z
LAST-MODIFIED:20220817T164033Z
UID:2659-1674205200-1674212400@www.orkney.co
SUMMARY:P4E Swimming at Picky
DESCRIPTION:P4E Swimming at Picky \nBuses leave PPS at 9:10am
URL:https://www.orkney.co/papdale/event/p4e-swimming-at-picky-3
LOCATION:Picky
CATEGORIES:School Trips,Swimming
ATTACH;FMTTYPE=image/gif:https://www.orkney.co/papdale/wp-content/uploads/2022/08/Swim.gif
END:VEVENT
BEGIN:VEVENT
DTSTART;TZID=UTC:20230113T090000
DTEND;TZID=UTC:20230113T110000
DTSTAMP:20260421T200705
CREATED:20220817T163947Z
LAST-MODIFIED:20220817T163947Z
UID:2657-1673600400-1673607600@www.orkney.co
SUMMARY:P4E Swimming at Picky
DESCRIPTION:P4E Swimming at Picky \nBuses leave PPS at 9:10am
URL:https://www.orkney.co/papdale/event/p4e-swimming-at-picky-2
LOCATION:Picky
CATEGORIES:School Trips,Swimming
ATTACH;FMTTYPE=image/gif:https://www.orkney.co/papdale/wp-content/uploads/2022/08/Swim.gif
END:VEVENT
BEGIN:VEVENT
DTSTART;TZID=UTC:20230106T090000
DTEND;TZID=UTC:20230106T110000
DTSTAMP:20260421T200705
CREATED:20220817T163856Z
LAST-MODIFIED:20220817T163856Z
UID:2655-1672995600-1673002800@www.orkney.co
SUMMARY:P4E Swimming at Picky
DESCRIPTION:P4E Swimming at Picky \nBuses leave PPS at 9:10am
URL:https://www.orkney.co/papdale/event/p4e-swimming-at-picky
LOCATION:Picky
CATEGORIES:School Trips,Swimming
ATTACH;FMTTYPE=image/gif:https://www.orkney.co/papdale/wp-content/uploads/2022/08/Swim.gif
END:VEVENT
BEGIN:VEVENT
DTSTART;TZID=UTC:20221216T090000
DTEND;TZID=UTC:20221216T110000
DTSTAMP:20260421T200705
CREATED:20220817T163711Z
LAST-MODIFIED:20220817T163711Z
UID:2653-1671181200-1671188400@www.orkney.co
SUMMARY:P5M Swimming at Picky
DESCRIPTION:P5M Swimming at Picky \nBuses leave PPS at 9:10am
URL:https://www.orkney.co/papdale/event/p5m-swimming-at-picky-8
LOCATION:Picky
CATEGORIES:School Trips,Swimming
ATTACH;FMTTYPE=image/gif:https://www.orkney.co/papdale/wp-content/uploads/2022/08/Swim.gif
END:VEVENT
BEGIN:VEVENT
DTSTART;TZID=UTC:20221209T080000
DTEND;TZID=UTC:20221209T170000
DTSTAMP:20260421T200705
CREATED:20220817T163630Z
LAST-MODIFIED:20220817T163630Z
UID:2651-1670572800-1670605200@www.orkney.co
SUMMARY:P5M Swimming at Picky
DESCRIPTION:P5M Swimming at Picky \nBuses leave PPS at 9:10am
URL:https://www.orkney.co/papdale/event/p5m-swimming-at-picky-7
LOCATION:Picky
CATEGORIES:School Trips,Swimming
ATTACH;FMTTYPE=image/gif:https://www.orkney.co/papdale/wp-content/uploads/2022/08/Swim.gif
END:VEVENT
BEGIN:VEVENT
DTSTART;TZID=UTC:20221202T090000
DTEND;TZID=UTC:20221202T110000
DTSTAMP:20260421T200705
CREATED:20220817T163547Z
LAST-MODIFIED:20220817T163547Z
UID:2649-1669971600-1669978800@www.orkney.co
SUMMARY:P5M Swimming at Picky
DESCRIPTION:P5M Swimming at Picky \nBuses leave PPS at 9:10am
URL:https://www.orkney.co/papdale/event/p5m-swimming-at-picky-6
LOCATION:Picky
CATEGORIES:School Trips,Swimming
ATTACH;FMTTYPE=image/gif:https://www.orkney.co/papdale/wp-content/uploads/2022/08/Swim.gif
END:VEVENT
BEGIN:VEVENT
DTSTART;TZID=UTC:20221125T090000
DTEND;TZID=UTC:20221125T110000
DTSTAMP:20260421T200705
CREATED:20220817T163450Z
LAST-MODIFIED:20220817T163450Z
UID:2647-1669366800-1669374000@www.orkney.co
SUMMARY:P5M Swimming at Picky
DESCRIPTION:P5M Swimming at Picky \nBuses leave PPS at 9:10am
URL:https://www.orkney.co/papdale/event/p5m-swimming-at-picky-5
LOCATION:Picky
CATEGORIES:School Trips,Swimming
ATTACH;FMTTYPE=image/gif:https://www.orkney.co/papdale/wp-content/uploads/2022/08/Swim.gif
END:VEVENT
BEGIN:VEVENT
DTSTART;TZID=UTC:20221123T100000
DTEND;TZID=UTC:20221123T120000
DTSTAMP:20260421T200705
CREATED:20221019T145603Z
LAST-MODIFIED:20221019T145603Z
UID:2826-1669197600-1669204800@www.orkney.co
SUMMARY:P3M Cinema Trip: Clifford the Big Red Dog
DESCRIPTION:P3M Cinema Trip: Clifford the Big Red Dog
URL:https://www.orkney.co/papdale/event/p3m-cinema-trip-clifford-the-big-red-dog
LOCATION:Picky
CATEGORIES:School Trips
ATTACH;FMTTYPE=image/jpeg:https://www.orkney.co/papdale/wp-content/uploads/2022/10/cinema.jpg
END:VEVENT
BEGIN:VEVENT
DTSTART;TZID=UTC:20221118T090000
DTEND;TZID=UTC:20221118T110000
DTSTAMP:20260421T200705
CREATED:20220817T163350Z
LAST-MODIFIED:20220817T163350Z
UID:2645-1668762000-1668769200@www.orkney.co
SUMMARY:P5M Swimming at Picky
DESCRIPTION:P5M Swimming at Picky \nBuses leave PPS at 9:10am
URL:https://www.orkney.co/papdale/event/p5m-swimming-at-picky-4
LOCATION:Picky
CATEGORIES:School Trips,Swimming
ATTACH;FMTTYPE=image/gif:https://www.orkney.co/papdale/wp-content/uploads/2022/08/Swim.gif
END:VEVENT
BEGIN:VEVENT
DTSTART;TZID=UTC:20221116T100000
DTEND;TZID=UTC:20221116T120000
DTSTAMP:20260421T200705
CREATED:20221019T145458Z
LAST-MODIFIED:20221019T145458Z
UID:2824-1668592800-1668600000@www.orkney.co
SUMMARY:P3/4S Cinema Trip: The Croods 2
DESCRIPTION:P3/4S Cinema Trip: The Croods 2
URL:https://www.orkney.co/papdale/event/p3-4s-cinema-trip-the-croods-2
LOCATION:Picky
CATEGORIES:School Trips
ATTACH;FMTTYPE=image/jpeg:https://www.orkney.co/papdale/wp-content/uploads/2022/10/cinema.jpg
END:VEVENT
BEGIN:VEVENT
DTSTART;TZID=UTC:20221111T090000
DTEND;TZID=UTC:20221111T110000
DTSTAMP:20260421T200705
CREATED:20220817T163252Z
LAST-MODIFIED:20220817T163252Z
UID:2643-1668157200-1668164400@www.orkney.co
SUMMARY:P5M Swimming at Picky
DESCRIPTION:P5M Swimming at Picky \nBuses leave PPS at 9:10am
URL:https://www.orkney.co/papdale/event/p5m-swimming-at-picky-3
LOCATION:Picky
CATEGORIES:School Trips,Swimming
ATTACH;FMTTYPE=image/gif:https://www.orkney.co/papdale/wp-content/uploads/2022/08/Swim.gif
END:VEVENT
BEGIN:VEVENT
DTSTART;TZID=UTC:20221104T090000
DTEND;TZID=UTC:20221104T110000
DTSTAMP:20260421T200705
CREATED:20220817T163205Z
LAST-MODIFIED:20220817T163205Z
UID:2641-1667552400-1667559600@www.orkney.co
SUMMARY:P5M Swimming at Picky
DESCRIPTION:P5M Swimming at Picky \nBuses leave PPS at 9:10am
URL:https://www.orkney.co/papdale/event/p5m-swimming-at-picky-2
LOCATION:Picky
CATEGORIES:School Trips,Swimming
ATTACH;FMTTYPE=image/gif:https://www.orkney.co/papdale/wp-content/uploads/2022/08/Swim.gif
END:VEVENT
BEGIN:VEVENT
DTSTART;TZID=UTC:20221028T090000
DTEND;TZID=UTC:20221028T110000
DTSTAMP:20260421T200705
CREATED:20220817T163117Z
LAST-MODIFIED:20220817T163117Z
UID:2639-1666947600-1666954800@www.orkney.co
SUMMARY:P5M Swimming at Picky
DESCRIPTION:P5M Swimming at Picky \nBuses leave PPS at 9:10am
URL:https://www.orkney.co/papdale/event/p5m-swimming-at-picky
LOCATION:Picky
CATEGORIES:School Trips,Swimming
ATTACH;FMTTYPE=image/gif:https://www.orkney.co/papdale/wp-content/uploads/2022/08/Swim.gif
END:VEVENT
BEGIN:VEVENT
DTSTART;TZID=UTC:20220930T090000
DTEND;TZID=UTC:20220930T110000
DTSTAMP:20260421T200705
CREATED:20220817T091455Z
LAST-MODIFIED:20220817T091455Z
UID:2637-1664528400-1664535600@www.orkney.co
SUMMARY:P5E Swimming at Picky
DESCRIPTION:P5E Swimming at Picky \nBuses leave PPS at 9:10am
URL:https://www.orkney.co/papdale/event/p5e-swimming-at-picky-7
LOCATION:Picky
CATEGORIES:School Trips,Swimming
ATTACH;FMTTYPE=image/gif:https://www.orkney.co/papdale/wp-content/uploads/2022/08/Swim.gif
END:VEVENT
BEGIN:VEVENT
DTSTART;TZID=UTC:20220923T090000
DTEND;TZID=UTC:20220923T110000
DTSTAMP:20260421T200705
CREATED:20220817T091401Z
LAST-MODIFIED:20220817T091401Z
UID:2635-1663923600-1663930800@www.orkney.co
SUMMARY:P5E Swimming at Picky
DESCRIPTION:P5E Swimming at Picky \nBuses leave PPS at 9:10am
URL:https://www.orkney.co/papdale/event/p5e-swimming-at-picky-6
LOCATION:Picky
CATEGORIES:School Trips,Swimming
ATTACH;FMTTYPE=image/gif:https://www.orkney.co/papdale/wp-content/uploads/2022/08/Swim.gif
END:VEVENT
BEGIN:VEVENT
DTSTART;TZID=UTC:20220916T090000
DTEND;TZID=UTC:20220916T110000
DTSTAMP:20260421T200705
CREATED:20220817T091303Z
LAST-MODIFIED:20220817T091303Z
UID:2633-1663318800-1663326000@www.orkney.co
SUMMARY:P5E Swimming at Picky
DESCRIPTION:P5E Swimming at Picky \nBuses leave PPS at 9:10am
URL:https://www.orkney.co/papdale/event/p5e-swimming-at-picky-5
LOCATION:Picky
CATEGORIES:School Trips,Swimming
ATTACH;FMTTYPE=image/gif:https://www.orkney.co/papdale/wp-content/uploads/2022/08/Swim.gif
END:VEVENT
BEGIN:VEVENT
DTSTART;VALUE=DATE:20220915
DTEND;VALUE=DATE:20220916
DTSTAMP:20260421T200705
CREATED:20220908T110714Z
LAST-MODIFIED:20220908T110756Z
UID:2750-1663200000-1663286399@www.orkney.co
SUMMARY:Birsay Visit - P5E
DESCRIPTION:Birsay Visit – P5E \n  \nNo cost.  Bring packed lunch or notify school day before if your child requires a packed lunch from school kitchen
URL:https://www.orkney.co/papdale/event/birsay-visit-p5e
CATEGORIES:School Trips
ATTACH;FMTTYPE=image/jpeg:https://www.orkney.co/papdale/wp-content/uploads/2022/09/birsay.jpg
END:VEVENT
BEGIN:VEVENT
DTSTART;TZID=UTC:20220909T090000
DTEND;TZID=UTC:20220909T110000
DTSTAMP:20260421T200705
CREATED:20220817T091205Z
LAST-MODIFIED:20220817T091205Z
UID:2631-1662714000-1662721200@www.orkney.co
SUMMARY:P5E Swimming at Picky
DESCRIPTION:P5E Swimming at Picky \nBuses leave PPS at 9:10am
URL:https://www.orkney.co/papdale/event/p5e-swimming-at-picky-4
LOCATION:Picky
CATEGORIES:School Trips,Swimming
ATTACH;FMTTYPE=image/gif:https://www.orkney.co/papdale/wp-content/uploads/2022/08/Swim.gif
END:VEVENT
BEGIN:VEVENT
DTSTART;TZID=UTC:20220902T090000
DTEND;TZID=UTC:20220902T110000
DTSTAMP:20260421T200705
CREATED:20220817T091111Z
LAST-MODIFIED:20220817T091111Z
UID:2629-1662109200-1662116400@www.orkney.co
SUMMARY:P5E Swimming at Picky
DESCRIPTION:P5E Swimming at Picky \nBuses leave PPS at 9:10am
URL:https://www.orkney.co/papdale/event/p5e-swimming-at-picky-3
LOCATION:Picky
CATEGORIES:School Trips,Swimming
ATTACH;FMTTYPE=image/gif:https://www.orkney.co/papdale/wp-content/uploads/2022/08/Swim.gif
END:VEVENT
BEGIN:VEVENT
DTSTART;TZID=UTC:20220819T090000
DTEND;TZID=UTC:20220819T110000
DTSTAMP:20260421T200705
CREATED:20220817T090905Z
LAST-MODIFIED:20220817T090905Z
UID:2624-1660899600-1660906800@www.orkney.co
SUMMARY:P5E Swimming at Picky
DESCRIPTION:P5E Swimming at Picky \nBuses leave PPS at 9:10am
URL:https://www.orkney.co/papdale/event/p5e-swimming-at-picky
LOCATION:Picky
CATEGORIES:School Trips,Swimming
ATTACH;FMTTYPE=image/gif:https://www.orkney.co/papdale/wp-content/uploads/2022/08/Swim.gif
END:VEVENT
END:VCALENDAR