BEGIN:VCALENDAR
VERSION:2.0
PRODID:-//Papdale Primary School - ECPv6.15.17//NONSGML v1.0//EN
CALSCALE:GREGORIAN
METHOD:PUBLISH
X-WR-CALNAME:Papdale Primary School
X-ORIGINAL-URL:https://www.orkney.co/papdale
X-WR-CALDESC:Events for Papdale Primary School
REFRESH-INTERVAL;VALUE=DURATION:PT1H
X-Robots-Tag:noindex
X-PUBLISHED-TTL:PT1H
BEGIN:VTIMEZONE
TZID:UTC
BEGIN:STANDARD
TZOFFSETFROM:+0000
TZOFFSETTO:+0000
TZNAME:UTC
DTSTART:20210101T000000
END:STANDARD
END:VTIMEZONE
BEGIN:VEVENT
DTSTART;VALUE=DATE:20221108
DTEND;VALUE=DATE:20221109
DTSTAMP:20260422T004207
CREATED:20221017T135538Z
LAST-MODIFIED:20221017T135538Z
UID:2796-1667865600-1667951999@www.orkney.co
SUMMARY:School Portrait Photoshoots for P5M
DESCRIPTION:School Portrait Photoshoots for P5M
URL:https://www.orkney.co/papdale/event/school-portrait-photoshoots-for-p5m
LOCATION:Papdale School
CATEGORIES:School Photos
ATTACH;FMTTYPE=image/jpeg:https://www.orkney.co/papdale/wp-content/uploads/2022/10/Photographer.jpg
END:VEVENT
BEGIN:VEVENT
DTSTART;VALUE=DATE:20221107
DTEND;VALUE=DATE:20221108
DTSTAMP:20260422T004207
CREATED:20221017T135456Z
LAST-MODIFIED:20221017T135456Z
UID:2794-1667779200-1667865599@www.orkney.co
SUMMARY:School Portrait Photoshoots for P1/2C
DESCRIPTION:School Portrait Photoshoots for P1/2C
URL:https://www.orkney.co/papdale/event/school-portrait-photoshoots-for-p1-2c
LOCATION:Papdale School
CATEGORIES:School Photos
ATTACH;FMTTYPE=image/jpeg:https://www.orkney.co/papdale/wp-content/uploads/2022/10/Photographer.jpg
END:VEVENT
BEGIN:VEVENT
DTSTART;VALUE=DATE:20221104
DTEND;VALUE=DATE:20221105
DTSTAMP:20260422T004207
CREATED:20221017T135414Z
LAST-MODIFIED:20221017T135414Z
UID:2792-1667520000-1667606399@www.orkney.co
SUMMARY:School Portrait Photoshoots for P1B\, P1L and P3M
DESCRIPTION:School Portrait Photoshoots for P1B\, P1L and P3M
URL:https://www.orkney.co/papdale/event/school-portrait-photoshoots-for-p1b-p1l-and-p3m
LOCATION:Papdale School
CATEGORIES:School Photos
ATTACH;FMTTYPE=image/jpeg:https://www.orkney.co/papdale/wp-content/uploads/2022/10/Photographer.jpg
END:VEVENT
BEGIN:VEVENT
DTSTART;VALUE=DATE:20221103
DTEND;VALUE=DATE:20221104
DTSTAMP:20260422T004207
CREATED:20221017T135329Z
LAST-MODIFIED:20221017T135329Z
UID:2790-1667433600-1667519999@www.orkney.co
SUMMARY:School Portrait Photoshoots for P2M\, P3/4S and P5E
DESCRIPTION:School Portrait Photoshoots for P2M\, P3/4S and P5E
URL:https://www.orkney.co/papdale/event/school-portrait-photoshoots-for-p2m-p3-4s-and-p5e
LOCATION:Papdale School
CATEGORIES:School Photos
ATTACH;FMTTYPE=image/jpeg:https://www.orkney.co/papdale/wp-content/uploads/2022/10/Photographer.jpg
END:VEVENT
BEGIN:VEVENT
DTSTART;VALUE=DATE:20221102
DTEND;VALUE=DATE:20221103
DTSTAMP:20260422T004207
CREATED:20221017T135224Z
LAST-MODIFIED:20221017T135224Z
UID:2788-1667347200-1667433599@www.orkney.co
SUMMARY:School Portrait Photoshoots for P2E\, P3E and P6E
DESCRIPTION:School Portrait Photoshoots for P2E\, P3E and P6E
URL:https://www.orkney.co/papdale/event/school-portrait-photoshoots-for-p2e-p3e-and-p6e
LOCATION:Papdale School
CATEGORIES:School Photos
ATTACH;FMTTYPE=image/jpeg:https://www.orkney.co/papdale/wp-content/uploads/2022/10/Photographer.jpg
END:VEVENT
BEGIN:VEVENT
DTSTART;VALUE=DATE:20221101
DTEND;VALUE=DATE:20221102
DTSTAMP:20260422T004207
CREATED:20221017T135122Z
LAST-MODIFIED:20221017T135127Z
UID:2786-1667260800-1667347199@www.orkney.co
SUMMARY:School Portrait Photoshoots for P4M\, P6/7S and P7M
DESCRIPTION:School Portrait Photoshoots for P4M\, P6/7S and P7M
URL:https://www.orkney.co/papdale/event/school-portrait-photoshoots-for-p4m-p6-7s-and-p7m
LOCATION:Papdale School
CATEGORIES:School Photos
ATTACH;FMTTYPE=image/jpeg:https://www.orkney.co/papdale/wp-content/uploads/2022/10/Photographer.jpg
END:VEVENT
BEGIN:VEVENT
DTSTART;VALUE=DATE:20221031
DTEND;VALUE=DATE:20221101
DTSTAMP:20260422T004207
CREATED:20221017T135026Z
LAST-MODIFIED:20221017T135026Z
UID:2784-1667174400-1667260799@www.orkney.co
SUMMARY:School Portrait Photoshoots for P4E\, P6M and P7E
DESCRIPTION:School Portrait Photoshoots for P4E\, P6M and P7E
URL:https://www.orkney.co/papdale/event/school-portrait-photoshoots-for-p4e-p6m-and-p7e
LOCATION:Papdale School
CATEGORIES:School Photos
ATTACH;FMTTYPE=image/jpeg:https://www.orkney.co/papdale/wp-content/uploads/2022/10/Photographer.jpg
END:VEVENT
END:VCALENDAR