BEGIN:VCALENDAR
VERSION:2.0
PRODID:-//Papdale Primary School - ECPv6.15.17//NONSGML v1.0//EN
CALSCALE:GREGORIAN
METHOD:PUBLISH
X-WR-CALNAME:Papdale Primary School
X-ORIGINAL-URL:https://www.orkney.co/papdale
X-WR-CALDESC:Events for Papdale Primary School
REFRESH-INTERVAL;VALUE=DURATION:PT1H
X-Robots-Tag:noindex
X-PUBLISHED-TTL:PT1H
BEGIN:VTIMEZONE
TZID:UTC
BEGIN:STANDARD
TZOFFSETFROM:+0000
TZOFFSETTO:+0000
TZNAME:UTC
DTSTART:20210101T000000
END:STANDARD
END:VTIMEZONE
BEGIN:VEVENT
DTSTART;TZID=UTC:20221026T150000
DTEND;TZID=UTC:20221026T163000
DTSTAMP:20260422T004140
CREATED:20221017T140612Z
LAST-MODIFIED:20221017T140612Z
UID:2798-1666796400-1666801800@www.orkney.co
SUMMARY:P6/P7 Netball Squad Training
DESCRIPTION:P6/P7 Netball Squad Training
URL:https://www.orkney.co/papdale/event/p6-p7-netball-squad-training
LOCATION:Infant Hall
CATEGORIES:Netball
ATTACH;FMTTYPE=image/jpeg:https://www.orkney.co/papdale/wp-content/uploads/2022/09/Netball.jpg
END:VEVENT
END:VCALENDAR