BEGIN:VCALENDAR
VERSION:2.0
PRODID:-//Papdale Primary School - ECPv6.15.17//NONSGML v1.0//EN
CALSCALE:GREGORIAN
METHOD:PUBLISH
X-WR-CALNAME:Papdale Primary School
X-ORIGINAL-URL:https://www.orkney.co/papdale
X-WR-CALDESC:Events for Papdale Primary School
REFRESH-INTERVAL;VALUE=DURATION:PT1H
X-Robots-Tag:noindex
X-PUBLISHED-TTL:PT1H
BEGIN:VTIMEZONE
TZID:UTC
BEGIN:STANDARD
TZOFFSETFROM:+0000
TZOFFSETTO:+0000
TZNAME:UTC
DTSTART:20210101T000000
END:STANDARD
END:VTIMEZONE
BEGIN:VEVENT
DTSTART;VALUE=DATE:20230403
DTEND;VALUE=DATE:20230417
DTSTAMP:20260421T182407
CREATED:20220802T135112Z
LAST-MODIFIED:20220802T135225Z
UID:2589-1680480000-1681689599@www.orkney.co
SUMMARY:School Holidays
DESCRIPTION:School Holidays
URL:https://www.orkney.co/papdale/event/school-holidays-4
LOCATION:Papdale School
CATEGORIES:Holidays
ATTACH;FMTTYPE=image/jpeg:https://www.orkney.co/papdale/wp-content/uploads/2022/07/disco-dancefloor-9259-scaled.jpg
END:VEVENT
BEGIN:VEVENT
DTSTART;VALUE=DATE:20230210
DTEND;VALUE=DATE:20230215
DTSTAMP:20260421T182407
CREATED:20220802T135016Z
LAST-MODIFIED:20220802T135016Z
UID:2587-1675987200-1676419199@www.orkney.co
SUMMARY:School Holidays
DESCRIPTION:School Holidays
URL:https://www.orkney.co/papdale/event/school-holidays-3
LOCATION:Papdale School
CATEGORIES:Holidays
ATTACH;FMTTYPE=image/jpeg:https://www.orkney.co/papdale/wp-content/uploads/2022/07/disco-dancefloor-9259-scaled.jpg
END:VEVENT
BEGIN:VEVENT
DTSTART;VALUE=DATE:20221222
DTEND;VALUE=DATE:20230105
DTSTAMP:20260421T182407
CREATED:20220802T134902Z
LAST-MODIFIED:20220802T134902Z
UID:2585-1671667200-1672876799@www.orkney.co
SUMMARY:School Holidays
DESCRIPTION:School Holidays
URL:https://www.orkney.co/papdale/event/school-holidays-2
LOCATION:Papdale School
CATEGORIES:Holidays
ATTACH;FMTTYPE=image/jpeg:https://www.orkney.co/papdale/wp-content/uploads/2022/07/disco-dancefloor-9259-scaled.jpg
END:VEVENT
BEGIN:VEVENT
DTSTART;VALUE=DATE:20221006
DTEND;VALUE=DATE:20221024
DTSTAMP:20260421T182407
CREATED:20220802T134727Z
LAST-MODIFIED:20220802T134920Z
UID:2583-1665014400-1666569599@www.orkney.co
SUMMARY:School Holidays
DESCRIPTION:School Holidays
URL:https://www.orkney.co/papdale/event/school-holidays
LOCATION:Papdale School
CATEGORIES:Holidays
ATTACH;FMTTYPE=image/jpeg:https://www.orkney.co/papdale/wp-content/uploads/2022/07/disco-dancefloor-9259-scaled.jpg
END:VEVENT
END:VCALENDAR